BEGIN:VCALENDAR
VERSION:2.0
PRODID:-//North York Hockey League - ECPv6.15.20//NONSGML v1.0//EN
CALSCALE:GREGORIAN
METHOD:PUBLISH
X-WR-CALNAME:North York Hockey League
X-ORIGINAL-URL:https://nyhl.on.ca
X-WR-CALDESC:Events for North York Hockey League
REFRESH-INTERVAL;VALUE=DURATION:PT1H
X-Robots-Tag:noindex
X-PUBLISHED-TTL:PT1H
BEGIN:VTIMEZONE
TZID:America/Toronto
BEGIN:DAYLIGHT
TZOFFSETFROM:-0500
TZOFFSETTO:-0400
TZNAME:EDT
DTSTART:20240310T070000
END:DAYLIGHT
BEGIN:STANDARD
TZOFFSETFROM:-0400
TZOFFSETTO:-0500
TZNAME:EST
DTSTART:20241103T060000
END:STANDARD
BEGIN:DAYLIGHT
TZOFFSETFROM:-0500
TZOFFSETTO:-0400
TZNAME:EDT
DTSTART:20250309T070000
END:DAYLIGHT
BEGIN:STANDARD
TZOFFSETFROM:-0400
TZOFFSETTO:-0500
TZNAME:EST
DTSTART:20251102T060000
END:STANDARD
BEGIN:DAYLIGHT
TZOFFSETFROM:-0500
TZOFFSETTO:-0400
TZNAME:EDT
DTSTART:20260308T070000
END:DAYLIGHT
BEGIN:STANDARD
TZOFFSETFROM:-0400
TZOFFSETTO:-0500
TZNAME:EST
DTSTART:20261101T060000
END:STANDARD
END:VTIMEZONE
BEGIN:VEVENT
DTSTART;VALUE=DATE:20251107
DTEND;VALUE=DATE:20251110
DTSTAMP:20260419T145301
CREATED:20250825T182210Z
LAST-MODIFIED:20250825T182210Z
UID:6664-1762473600-1762732799@nyhl.on.ca
SUMMARY:Canadian Cup - Montreal
DESCRIPTION:AGE GROUPS: U15- U18 \nDIVISION: Select \nLOCATION: Montreal\, QC \nCONTACT: call 1-800-461-2161 or visit www.chehockey.com for more information \n  \n 
URL:https://nyhl.on.ca/key-dates/canadian-cup-montreal/
CATEGORIES:Sponsor Tournaments
ORGANIZER;CN="Candian Hockey Enterprises":MAILTO:goals@chehockey.com
END:VEVENT
BEGIN:VEVENT
DTSTART;VALUE=DATE:20251107
DTEND;VALUE=DATE:20251110
DTSTAMP:20260419T145301
CREATED:20250611T195032Z
LAST-MODIFIED:20250611T195032Z
UID:6465-1762473600-1762732799@nyhl.on.ca
SUMMARY:Veteran's Day On The Beach
DESCRIPTION:AGE GROUPS: U09 – U18 \nDIVISION: B \nLOCATION: Coral Springs\, FL \nCONTACT: https://weekendhockey.com/youth-travel-rep-aaa-aa-a-b-tournaments/
URL:https://nyhl.on.ca/key-dates/veterans-day-on-the-beach/
CATEGORIES:US Sponsor Tournaments
ORGANIZER;CN="Weekend Hockey":MAILTO:info@weekendhockey.com
END:VEVENT
BEGIN:VEVENT
DTSTART;VALUE=DATE:20251107
DTEND;VALUE=DATE:20251110
DTSTAMP:20260419T145301
CREATED:20250611T191704Z
LAST-MODIFIED:20250611T191704Z
UID:6416-1762473600-1762732799@nyhl.on.ca
SUMMARY:Innisfil Winterhawks Fall Classic
DESCRIPTION:AGE GROUPS: U10 – U18 \nDIVISION: HL/LL\, Select \nLOCATION: Innisfil\, ON \nCONTACT: https://weekendhockey.com/youth-hl-ll-select-md-tournaments/
URL:https://nyhl.on.ca/key-dates/innisfil-winterhawks-fall-classic/
LOCATION:Innisfil Recreation Complex
CATEGORIES:Sponsor Tournaments
ORGANIZER;CN="Weekend Hockey":MAILTO:info@weekendhockey.com
END:VEVENT
BEGIN:VEVENT
DTSTART;VALUE=DATE:20251101
DTEND;VALUE=DATE:20251102
DTSTAMP:20260419T145301
CREATED:20251014T192359Z
LAST-MODIFIED:20251014T192359Z
UID:6823-1761955200-1762041599@nyhl.on.ca
SUMMARY:U9 Teams Transition to Full Ice
DESCRIPTION:U9 teams will transition from modified-ice to full ice. Teams will play 5 on 5 with no special teams (powerplay/penalty kill).
URL:https://nyhl.on.ca/key-dates/u9-teams-transition-to-full-ice/
CATEGORIES:Key Dates
END:VEVENT
BEGIN:VEVENT
DTSTART;VALUE=DATE:20251031
DTEND;VALUE=DATE:20251103
DTSTAMP:20260419T145301
CREATED:20250611T190555Z
LAST-MODIFIED:20250611T190555Z
UID:6406-1761868800-1762127999@nyhl.on.ca
SUMMARY:Bradford Blue & Gold Classic
DESCRIPTION:AGE GROUPS: U11 – U18 \nDIVISION: HL/LL\, Select \nLOCATION: Bradford\, ON \nCONTACT: https://weekendhockey.com/youth-hl-ll-select-md-tournaments/
URL:https://nyhl.on.ca/key-dates/bradford-blue-gold-classic/
LOCATION:BWG Leisure Centre
CATEGORIES:Sponsor Tournaments
ORGANIZER;CN="Weekend Hockey":MAILTO:info@weekendhockey.com
END:VEVENT
BEGIN:VEVENT
DTSTART;VALUE=DATE:20251031
DTEND;VALUE=DATE:20251101
DTSTAMP:20260419T145301
CREATED:20250625T184511Z
LAST-MODIFIED:20250625T190105Z
UID:6598-1761868800-1761955199@nyhl.on.ca
SUMMARY:1st Player Registration Installment Deadline
DESCRIPTION:
URL:https://nyhl.on.ca/key-dates/1st-player-registration-installment-deadline/
CATEGORIES:Key Dates
END:VEVENT
BEGIN:VEVENT
DTSTART;VALUE=DATE:20251024
DTEND;VALUE=DATE:20251027
DTSTAMP:20260419T145301
CREATED:20250611T173354Z
LAST-MODIFIED:20250611T173354Z
UID:6372-1761264000-1761523199@nyhl.on.ca
SUMMARY:Essa Eagles Fall Classic
DESCRIPTION:AGE GROUPS: U10 – U18 \nDIVISION: BB\, B \nLOCATION: New Tecumseth\, ON \nCONTACT: https://weekendhockey.com/youth-travel-rep-aaa-aa-a-b-tournaments/
URL:https://nyhl.on.ca/key-dates/essa-eagles-fall-classic/
LOCATION:Centre Ice Sportsplex
CATEGORIES:Sponsor Tournaments
ORGANIZER;CN="Weekend Hockey":MAILTO:info@weekendhockey.com
END:VEVENT
BEGIN:VEVENT
DTSTART;VALUE=DATE:20251024
DTEND;VALUE=DATE:20251027
DTSTAMP:20260419T145301
CREATED:20250401T195745Z
LAST-MODIFIED:20250401T195745Z
UID:6204-1761264000-1761523199@nyhl.on.ca
SUMMARY:53rd Annual Gene Harrington Niagara Showdown
DESCRIPTION:AGE GROUP: U14 – U18\nLOCATION: Buffalo/Niagara Falls\, New York\nCONTACT: www.nahockey.com/hockey-tournaments or call (781) 710-6560
URL:https://nyhl.on.ca/key-dates/53rd-annual-gene-harrington-niagara-showdown/
CATEGORIES:US Sponsor Tournaments
ORGANIZER;CN="Gene Harrington Tournaments":MAILTO:bh@nahockey.com
END:VEVENT
END:VCALENDAR