BEGIN:VCALENDAR
VERSION:2.0
PRODID:-//North York Hockey League - ECPv6.15.20//NONSGML v1.0//EN
CALSCALE:GREGORIAN
METHOD:PUBLISH
X-WR-CALNAME:North York Hockey League
X-ORIGINAL-URL:https://nyhl.on.ca
X-WR-CALDESC:Events for North York Hockey League
REFRESH-INTERVAL;VALUE=DURATION:PT1H
X-Robots-Tag:noindex
X-PUBLISHED-TTL:PT1H
BEGIN:VTIMEZONE
TZID:America/Toronto
BEGIN:DAYLIGHT
TZOFFSETFROM:-0500
TZOFFSETTO:-0400
TZNAME:EDT
DTSTART:20250309T070000
END:DAYLIGHT
BEGIN:STANDARD
TZOFFSETFROM:-0400
TZOFFSETTO:-0500
TZNAME:EST
DTSTART:20251102T060000
END:STANDARD
BEGIN:DAYLIGHT
TZOFFSETFROM:-0500
TZOFFSETTO:-0400
TZNAME:EDT
DTSTART:20260308T070000
END:DAYLIGHT
BEGIN:STANDARD
TZOFFSETFROM:-0400
TZOFFSETTO:-0500
TZNAME:EST
DTSTART:20261101T060000
END:STANDARD
BEGIN:DAYLIGHT
TZOFFSETFROM:-0500
TZOFFSETTO:-0400
TZNAME:EDT
DTSTART:20270314T070000
END:DAYLIGHT
BEGIN:STANDARD
TZOFFSETFROM:-0400
TZOFFSETTO:-0500
TZNAME:EST
DTSTART:20271107T060000
END:STANDARD
END:VTIMEZONE
BEGIN:VEVENT
DTSTART;VALUE=DATE:20260206
DTEND;VALUE=DATE:20260209
DTSTAMP:20260422T061801
CREATED:20250617T164526Z
LAST-MODIFIED:20250908T224110Z
UID:6514-1770336000-1770595199@nyhl.on.ca
SUMMARY:Don Montgomery Valentines Tournament
DESCRIPTION:AGE GROUP: U9 – U18 \nLOCATION: Canlan Sports Scarborough Arena \nCONTACT: Bruce Hamilton at brucehamilton8487@gmail.com
URL:https://nyhl.on.ca/key-dates/don-montgomery-valentines-tournament/
LOCATION:Canlan Sports Scarborough Arena\, 159 Dynamic Dr.\, Toronto\, Ontario\, M1V 5L8\, Canada
CATEGORIES:Club Tournaments
ORGANIZER;CN="Scarborough Hockey Association":MAILTO:brucehamilton8487@gmail.com
END:VEVENT
END:VCALENDAR